BEGIN:VCALENDAR
VERSION:2.0
PRODID:-//Sri Lanka Foundation - ECPv6.11.2//NONSGML v1.0//EN
CALSCALE:GREGORIAN
METHOD:PUBLISH
X-ORIGINAL-URL:https://srilankafoundation.org
X-WR-CALDESC:Events for Sri Lanka Foundation
REFRESH-INTERVAL;VALUE=DURATION:PT1H
X-Robots-Tag:noindex
X-PUBLISHED-TTL:PT1H
BEGIN:VTIMEZONE
TZID:America/Los_Angeles
BEGIN:DAYLIGHT
TZOFFSETFROM:-0800
TZOFFSETTO:-0700
TZNAME:PDT
DTSTART:20150308T100000
END:DAYLIGHT
BEGIN:STANDARD
TZOFFSETFROM:-0700
TZOFFSETTO:-0800
TZNAME:PST
DTSTART:20151101T090000
END:STANDARD
END:VTIMEZONE
BEGIN:VEVENT
DTSTART;TZID=America/Los_Angeles:20150905T140000
DTEND;TZID=America/Los_Angeles:20150905T160000
DTSTAMP:20260420T081948
CREATED:20240730T224826Z
LAST-MODIFIED:20240730T224826Z
UID:10000694-1441461600-1441468800@srilankafoundation.org
SUMMARY:Book Signing
DESCRIPTION:Crown Books Store will be holding a book signing for “Teera; A Life of Hope and Fulfillment” a memoir of Ms Teera De Fonseka written by Pat Meissner.\nThere will be music performance by Takisha. Sri-lankan snacks and other treats will be served.\n\nFor more information: R.S.V.P on (818) 917-4104 or teerafonseka@gmail.com or visit www.teeraslifejourney.com
URL:https://srilankafoundation.org/event/book-signing/
LOCATION:Crown Book Store\, 6100 Topanga Canyon Blvd\, Woodland Hills\, CA\, 91367\, United States
GEO:34.1808143;-118.6038048
X-APPLE-STRUCTURED-LOCATION;VALUE=URI;X-ADDRESS=Crown Book Store 6100 Topanga Canyon Blvd Woodland Hills CA 91367 United States;X-APPLE-RADIUS=500;X-TITLE=6100 Topanga Canyon Blvd:geo:-118.6038048,34.1808143
END:VEVENT
BEGIN:VEVENT
DTSTART;TZID=America/Los_Angeles:20150906T070000
DTEND;TZID=America/Los_Angeles:20150906T180000
DTSTAMP:20260420T081948
CREATED:20240730T224822Z
LAST-MODIFIED:20240730T224822Z
UID:10000693-1441522800-1441562400@srilankafoundation.org
SUMMARY:Seven-A-Side Cricket Tournament & Family Day
DESCRIPTION:Join the Sri Lanka Muslim Association of California Seven-a-side cricket tournament and Family day filled with Cricket\, Sri Lankan Fusion food and entertainment.\nTickets: Contact Zanhar\n\nFor more information: Zanher 818-943-2902
URL:https://srilankafoundation.org/event/seven-a-side-cricket-tournament-family-day/
LOCATION:Leo Magnus Cricket Complex\, 6350 Woodley Ave\, Van Nuys\, CA\, 91436\, United States
ATTACH;FMTTYPE=image/webp:https://srilankafoundation.org/wp-content/uploads/2024/07/Screen-Shot-2015-09-01-at-11.05.29-AM-Ag3Ffd.tmp_.webp
GEO:34.1786563;-118.4764638
X-APPLE-STRUCTURED-LOCATION;VALUE=URI;X-ADDRESS=Leo Magnus Cricket Complex 6350 Woodley Ave Van Nuys CA 91436 United States;X-APPLE-RADIUS=500;X-TITLE=6350 Woodley Ave:geo:-118.4764638,34.1786563
END:VEVENT
BEGIN:VEVENT
DTSTART;TZID=America/Los_Angeles:20150912T160000
DTEND;TZID=America/Los_Angeles:20150912T220000
DTSTAMP:20260420T081948
CREATED:20240730T224819Z
LAST-MODIFIED:20240730T224819Z
UID:10000692-1442073600-1442095200@srilankafoundation.org
SUMMARY:Food Festival
DESCRIPTION:Enjoy tasty home cooked Sri Lankan food at incredibly low prices!\nCost: FREE admission
URL:https://srilankafoundation.org/event/food-festival-3/
LOCATION:Sri Ratana International Buddhist Center\, 2780 Lincoln Ave\, Anaheim\, CA\, 92801\, United States
ATTACH;FMTTYPE=image/webp:https://srilankafoundation.org/wp-content/uploads/2024/07/food-festival-september-AkZMS7.tmp_.webp
GEO:33.8317927;-117.9837125
X-APPLE-STRUCTURED-LOCATION;VALUE=URI;X-ADDRESS=Sri Ratana International Buddhist Center 2780 Lincoln Ave Anaheim CA 92801 United States;X-APPLE-RADIUS=500;X-TITLE=2780 Lincoln Ave:geo:-117.9837125,33.8317927
END:VEVENT
BEGIN:VEVENT
DTSTART;TZID=America/Los_Angeles:20150912T190000
DTEND;TZID=America/Los_Angeles:20150912T230000
DTSTAMP:20260420T081948
CREATED:20240730T224816Z
LAST-MODIFIED:20240730T224816Z
UID:10000691-1442084400-1442098800@srilankafoundation.org
SUMMARY:Casa De Silva Sri Lankan Food Fiesta in Corona
DESCRIPTION:Keep the date free and come with your family and friends to Casa De Silva’s Sri Lankan food fiesta in Corona.\nTickets: All you can eat buffet only $30\n\nFor more information: Sarath (818) 223-1217\, Rohan (818) 371-5980\, Jude (951) 288-7260\, Samantha (626) 253-6870\, Shirani (951)371-8425
URL:https://srilankafoundation.org/event/casa-de-silva-sri-lankan-food-fiesta-in-corona/
LOCATION:Casa De Silva\, 14944 Landerwood Dr.\, Corona\, CA\, 92880\, United States
ATTACH;FMTTYPE=image/webp:https://srilankafoundation.org/wp-content/uploads/2024/07/facebook_1437692748399-oJ44yS.tmp_.webp
GEO:33.962061;-117.609398
X-APPLE-STRUCTURED-LOCATION;VALUE=URI;X-ADDRESS=Casa De Silva 14944 Landerwood Dr. Corona CA 92880 United States;X-APPLE-RADIUS=500;X-TITLE=14944 Landerwood Dr.:geo:-117.609398,33.962061
END:VEVENT
BEGIN:VEVENT
DTSTART;TZID=America/Los_Angeles:20150919T173000
DTEND;TZID=America/Los_Angeles:20150919T173000
DTSTAMP:20260420T081948
CREATED:20240730T224743Z
LAST-MODIFIED:20240730T224743Z
UID:10000688-1442683800-1442683800@srilankafoundation.org
SUMMARY:Gee Amaa - Musical Concert
DESCRIPTION:Gee Amaa a musical concert with Dr. Victor Ratnayake and Sunil Edirisinghe in aid of the Emali Gunawardena Fund. Music directed by Suresh Maliyadde.\n\n\nCost: VIP-£50\, £40 (3 tickets for £100)\, £30 (4 tickets for £100)\n\n\n\nFore more Information: Call 020339338940\, 02033937827\, 07572957292
URL:https://srilankafoundation.org/event/gee-amaa-musical-concert/
LOCATION:Gateway House\, John Wilson St.\, Woolwich\, London\, SE18 6QQ\, United Kingdom
ATTACH;FMTTYPE=image/webp:https://srilankafoundation.org/wp-content/uploads/2024/07/gee-amaa-obg5xg.tmp_.webp
GEO:51.4902559;0.0622184
X-APPLE-STRUCTURED-LOCATION;VALUE=URI;X-ADDRESS=Gateway House John Wilson St. Woolwich London SE18 6QQ United Kingdom;X-APPLE-RADIUS=500;X-TITLE=John Wilson St.:geo:0.0622184,51.4902559
END:VEVENT
BEGIN:VEVENT
DTSTART;TZID=America/Los_Angeles:20150919T190000
DTEND;TZID=America/Los_Angeles:20150919T233000
DTSTAMP:20260420T081948
CREATED:20240730T224813Z
LAST-MODIFIED:20240730T224813Z
UID:10000689-1442689200-1442705400@srilankafoundation.org
SUMMARY:Eda Rae
DESCRIPTION:Eda Rae – Ranil Mallawarachchi & Amila Nadeeshani Live in Concert\nTickets: TBD\n\nFor more information: Niroshani 0415-818-252
URL:https://srilankafoundation.org/event/eda-rae/
LOCATION:Rosalea Community Center\, 645-671 Pennant Hills Rd.\, Carlingford\, Australia
GEO:-33.7640893;151.0475933
X-APPLE-STRUCTURED-LOCATION;VALUE=URI;X-ADDRESS=Rosalea Community Center 645-671 Pennant Hills Rd. Carlingford Australia;X-APPLE-RADIUS=500;X-TITLE=645-671 Pennant Hills Rd.:geo:151.0475933,-33.7640893
END:VEVENT
BEGIN:VEVENT
DTSTART;TZID=America/Los_Angeles:20150919T190000
DTEND;TZID=America/Los_Angeles:20150920T010000
DTSTAMP:20260420T081948
CREATED:20240730T224815Z
LAST-MODIFIED:20240730T224815Z
UID:10000690-1442689200-1442710800@srilankafoundation.org
SUMMARY:Masquerade Ball
DESCRIPTION:The Thomian Alumni of Southern California presents Masquerade Ball Blue| Black| Blue featuring Manilal Perera\, Anokia & Colorblind.\nTickets are $110\n\nFor more information contact: Shiran 714-392-0378\, Tilak 909-263-6739\, Nimal 74-814-1084 and Diluk 646-733-8599
URL:https://srilankafoundation.org/event/masquerade-ball/
LOCATION:Universal City Hilton\, 555 Universal Hollywood Dr\, Universal City\, CA\, 91608\, United States
ATTACH;FMTTYPE=image/webp:https://srilankafoundation.org/wp-content/uploads/2024/07/unnamed-Zb4FGa.tmp_.webp
GEO:34.1372307;-118.3581847
X-APPLE-STRUCTURED-LOCATION;VALUE=URI;X-ADDRESS=Universal City Hilton 555 Universal Hollywood Dr Universal City CA 91608 United States;X-APPLE-RADIUS=500;X-TITLE=555 Universal Hollywood Dr:geo:-118.3581847,34.1372307
END:VEVENT
BEGIN:VEVENT
DTSTART;TZID=America/Los_Angeles:20150919T193000
DTEND;TZID=America/Los_Angeles:20150919T233000
DTSTAMP:20260420T081948
CREATED:20240730T224739Z
LAST-MODIFIED:20240730T224739Z
UID:10000687-1442691000-1442705400@srilankafoundation.org
SUMMARY:Maroon & Gold Ball 2015
DESCRIPTION:Anandians of NSW presents Maroon & Gold Ball 2015. Featuring live music\, 3 course dinner\, unlimited red & white wine\, beer & soft drinks.\nCost: TBD\n\nFor more information: Roshan 0434-827-770\, Nalin 0413-685-982\,  Satya 0425-208-438
URL:https://srilankafoundation.org/event/maroon-gold-ball-2015/
LOCATION:Epping Club\, 45-47 Rawson St.\, Epping\, NSW\, 2121\, Australia
GEO:-33.773344;151.080579
X-APPLE-STRUCTURED-LOCATION;VALUE=URI;X-ADDRESS=Epping Club 45-47 Rawson St. Epping NSW 2121 Australia;X-APPLE-RADIUS=500;X-TITLE=45-47 Rawson St.:geo:151.080579,-33.773344
END:VEVENT
BEGIN:VEVENT
DTSTART;TZID=America/Los_Angeles:20150926T180000
DTEND;TZID=America/Los_Angeles:20150926T210000
DTSTAMP:20260420T081948
CREATED:20240730T224735Z
LAST-MODIFIED:20240730T224735Z
UID:10000685-1443290400-1443301200@srilankafoundation.org
SUMMARY:Sri Lankan Food Bazaar
DESCRIPTION:Wheaton Temple in Maryland is organizing a Sri Lankan Food Bazaar\nTickets: Free Admission\n\nFor more information: 301.946.9437
URL:https://srilankafoundation.org/event/sri-lankan-food-bazaar/
LOCATION:Maryland Buddhist Vihara\, 2600 Elmont St\, Wheaton\, MD\, 20902\, United States
ATTACH;FMTTYPE=image/webp:https://srilankafoundation.org/wp-content/uploads/2024/07/unnamed-HdQQ9M.tmp_.webp
GEO:39.0441379;-77.053776
X-APPLE-STRUCTURED-LOCATION;VALUE=URI;X-ADDRESS=Maryland Buddhist Vihara 2600 Elmont St Wheaton MD 20902 United States;X-APPLE-RADIUS=500;X-TITLE=2600 Elmont St:geo:-77.053776,39.0441379
END:VEVENT
BEGIN:VEVENT
DTSTART;TZID=America/Los_Angeles:20150926T183000
DTEND;TZID=America/Los_Angeles:20150926T213000
DTSTAMP:20260420T081948
CREATED:20240730T224738Z
LAST-MODIFIED:20240730T224738Z
UID:10000686-1443292200-1443303000@srilankafoundation.org
SUMMARY:Visarada Neela Wickramasinge And Visadara Sunil Edirisinghe Live In Los Angeles
DESCRIPTION:The quality and sensational music is backed by most talented musicians Santh Sathischandra\, Dhananjaya Somasiri\, Mahendra Pasqual and the fabulous music director Suresh Maliyadde.\nSponsored\, organized and produced by: \nThusitha De Silva 323-842-5365 (19th Production)
URL:https://srilankafoundation.org/event/visarada-neela-wickramasinge-and-visadara-sunil-edirisinghe-live-in-los-angeles/
LOCATION:San Gabriel Mission Play House\, 320 S. Mission Dr.\, San Gabriel\, CA\, 91776\, United States
GEO:34.0983284;-118.1084277
X-APPLE-STRUCTURED-LOCATION;VALUE=URI;X-ADDRESS=San Gabriel Mission Play House 320 S. Mission Dr. San Gabriel CA 91776 United States;X-APPLE-RADIUS=500;X-TITLE=320 S. Mission Dr.:geo:-118.1084277,34.0983284
END:VEVENT
END:VCALENDAR