BEGIN:VCALENDAR
VERSION:2.0
PRODID:-//Sri Lanka Foundation - ECPv6.11.2//NONSGML v1.0//EN
CALSCALE:GREGORIAN
METHOD:PUBLISH
X-ORIGINAL-URL:https://srilankafoundation.org
X-WR-CALDESC:Events for Sri Lanka Foundation
REFRESH-INTERVAL;VALUE=DURATION:PT1H
X-Robots-Tag:noindex
X-PUBLISHED-TTL:PT1H
BEGIN:VTIMEZONE
TZID:America/Los_Angeles
BEGIN:DAYLIGHT
TZOFFSETFROM:-0800
TZOFFSETTO:-0700
TZNAME:PDT
DTSTART:20150308T100000
END:DAYLIGHT
BEGIN:STANDARD
TZOFFSETFROM:-0700
TZOFFSETTO:-0800
TZNAME:PST
DTSTART:20151101T090000
END:STANDARD
END:VTIMEZONE
BEGIN:VEVENT
DTSTART;TZID=America/Los_Angeles:20150712T073000
DTEND;TZID=America/Los_Angeles:20150712T173000
DTSTAMP:20260421T135710
CREATED:20240730T224920Z
LAST-MODIFIED:20240730T224920Z
UID:10000706-1436686200-1436722200@srilankafoundation.org
SUMMARY:Esala Poya Program
DESCRIPTION:Esala Poya ProgramTickets: Free\, Open to all.\n\nContact: Bhante Panamwela. Wajirabuddhi\, Chief Abbot of GBV @ (770) 987 8442
URL:https://srilankafoundation.org/event/esala-poya-program/
LOCATION:Georgia Buddhist Vihara\, 3153 Miller Road\, Lithonia\, GA\, 30038\, United States
ATTACH;FMTTYPE=image/webp:https://srilankafoundation.org/wp-content/uploads/2024/07/esala-poya-QshSWL.tmp_.webp
GEO:33.697104;-84.18679
X-APPLE-STRUCTURED-LOCATION;VALUE=URI;X-ADDRESS=Georgia Buddhist Vihara 3153 Miller Road Lithonia GA 30038 United States;X-APPLE-RADIUS=500;X-TITLE=3153 Miller Road:geo:-84.18679,33.697104
END:VEVENT
BEGIN:VEVENT
DTSTART;TZID=America/Los_Angeles:20150717T190000
DTEND;TZID=America/Los_Angeles:20150717T233000
DTSTAMP:20260421T135710
CREATED:20240730T224917Z
LAST-MODIFIED:20240730T224917Z
UID:10000705-1437159600-1437175800@srilankafoundation.org
SUMMARY:Josephian Gala Dinner Dance 2015
DESCRIPTION:Old Boys Association of St. Joseph’s College is organizing a fabulous Gala Dinner Dance with scrumptious dinner\, premium cocktails\, prizes and surprises. So get your dance shoes ready and support the Blue and White on July 17th.\nCost: $100\n\nMore information: For Table Reservations and Preferred Seating\, Contact at 626-335-7266
URL:https://srilankafoundation.org/event/josephian-gala-dinner-dance-2015/
LOCATION:Deluxe Banquet Hall\, 237 E. Olive Ave.\, Burbank\, CA\, 91502\, United States
GEO:34.1815259;-118.3083828
X-APPLE-STRUCTURED-LOCATION;VALUE=URI;X-ADDRESS=Deluxe Banquet Hall 237 E. Olive Ave. Burbank CA 91502 United States;X-APPLE-RADIUS=500;X-TITLE=237 E. Olive Ave.:geo:-118.3083828,34.1815259
END:VEVENT
BEGIN:VEVENT
DTSTART;TZID=America/Los_Angeles:20150718T080000
DTEND;TZID=America/Los_Angeles:20150718T190000
DTSTAMP:20260421T135710
CREATED:20240730T224902Z
LAST-MODIFIED:20240730T224902Z
UID:10000702-1437206400-1437246000@srilankafoundation.org
SUMMARY:6-A Side Cricket Tournament
DESCRIPTION:Virginia Legends Cricket Club proudly presents 6-A side Cricket Tournament\nTeam Fee is $200\n\n16 Maximum teams\n\nWinners $1000 and Runners up $500\n\nCost: Free\, come show your support.\n\nFor more information: valegends@hotmail.com\n\nJerome (517) 242-0363\n\nChaminda (703) 855-4561\n\nPrince (571) 620-4641\n\nSenaka (703) 896-6445
URL:https://srilankafoundation.org/event/6-a-side-cricket-tournament/
LOCATION:Lake Fairfax Park\, 1400 Lake Fairfax Dr.\, Reston\, VA\, 20190\, United States
GEO:38.9659491;-77.3173571
X-APPLE-STRUCTURED-LOCATION;VALUE=URI;X-ADDRESS=Lake Fairfax Park 1400 Lake Fairfax Dr. Reston VA 20190 United States;X-APPLE-RADIUS=500;X-TITLE=1400 Lake Fairfax Dr.:geo:-77.3173571,38.9659491
END:VEVENT
BEGIN:VEVENT
DTSTART;TZID=America/Los_Angeles:20150718T113000
DTEND;TZID=America/Los_Angeles:20150718T170000
DTSTAMP:20260421T135710
CREATED:20240730T224915Z
LAST-MODIFIED:20240730T224915Z
UID:10000704-1437219000-1437238800@srilankafoundation.org
SUMMARY:Peterite Golf Classic - PGC 2015
DESCRIPTION:St. Peters College Old Boys Union of Washington presents the 4th Annual Peterite Golf Classic 2015\, a charity golf tournament in aid of two children. Registrations close on July 7\, 2015.\nCost:$85\n\nFor more information: visit www.peteritegolfclassic.com
URL:https://srilankafoundation.org/event/peterite-golf-classic-pgc-2015/
LOCATION:Virginia Oaks Golf Club\, 7950 Virginia Oaks Dr.\, Gainsville\, VA\, 20155\, United States
ATTACH;FMTTYPE=image/webp:https://srilankafoundation.org/wp-content/uploads/2024/07/Golf-KK6IxF.tmp_.webp
GEO:38.7845557;-77.617573
X-APPLE-STRUCTURED-LOCATION;VALUE=URI;X-ADDRESS=Virginia Oaks Golf Club 7950 Virginia Oaks Dr. Gainsville VA 20155 United States;X-APPLE-RADIUS=500;X-TITLE=7950 Virginia Oaks Dr.:geo:-77.617573,38.7845557
END:VEVENT
BEGIN:VEVENT
DTSTART;TZID=America/Los_Angeles:20150718T183000
DTEND;TZID=America/Los_Angeles:20150718T220000
DTSTAMP:20260421T135710
CREATED:20240730T224905Z
LAST-MODIFIED:20240730T224905Z
UID:10000703-1437244200-1437256800@srilankafoundation.org
SUMMARY:Rasanjalee
DESCRIPTION:Sinhalese Cultural Forum of NSW presents Rasanjalee Season 1 featuring Bathiya & Santhush\, Saranga & Umali\, Channa Upuli Dance Troupe with Sydney Sri Lankan Talents.\nTickets: $61.17 and $81.56\n\nFor more information: 047 0202 919
URL:https://srilankafoundation.org/event/rasanjalee/
LOCATION:The Concourse\, 409 Victoria\, Chatswood\, NSW\, 2067\, Australia
ATTACH;FMTTYPE=image/webp:https://srilankafoundation.org/wp-content/uploads/2024/07/Rasanjalee-4g6Xy0.tmp_.webp
GEO:-33.7957148;151.1836982
X-APPLE-STRUCTURED-LOCATION;VALUE=URI;X-ADDRESS=The Concourse 409 Victoria Chatswood NSW 2067 Australia;X-APPLE-RADIUS=500;X-TITLE=409 Victoria:geo:151.1836982,-33.7957148
END:VEVENT
BEGIN:VEVENT
DTSTART;TZID=America/Los_Angeles:20150724T180000
DTEND;TZID=America/Los_Angeles:20150724T230000
DTSTAMP:20260421T135710
CREATED:20240730T224859Z
LAST-MODIFIED:20240730T224859Z
UID:10000701-1437760800-1437778800@srilankafoundation.org
SUMMARY:Summer Love Chella
DESCRIPTION:SLYO Inland Empire chapter presents Summer Love Chella\nTickets: Presale: $15\,  At the door:$20\n\nFor more information: contact SLYO 818-614-1703
URL:https://srilankafoundation.org/event/summer-love-chella/
LOCATION:Bar Celona\, 38 E. Colorado Bl.\, Pasadena\, CA\, 91105\, United States
GEO:34.1455089;-118.149564
X-APPLE-STRUCTURED-LOCATION;VALUE=URI;X-ADDRESS=Bar Celona 38 E. Colorado Bl. Pasadena CA 91105 United States;X-APPLE-RADIUS=500;X-TITLE=38 E. Colorado Bl.:geo:-118.149564,34.1455089
END:VEVENT
BEGIN:VEVENT
DTSTART;TZID=America/Los_Angeles:20150726T083000
DTEND;TZID=America/Los_Angeles:20150726T103000
DTSTAMP:20260421T135710
CREATED:20240730T224855Z
LAST-MODIFIED:20240730T224855Z
UID:10000699-1437899400-1437906600@srilankafoundation.org
SUMMARY:Opening Ceremony of the Dhamma School
DESCRIPTION:Every Sunday from 8:30 am to 10:30 am. All children are welcome to come learn about the Dhamma.\nEntrance: Free\n\nFor more information: 818-719-8474
URL:https://srilankafoundation.org/event/opening-ceremony-of-the-dhamma-school/
LOCATION:Shanthi Nikethanaya Buddhist Center\, 22543 Marlin Place\, West Hills\, CA\, 91307\, United States
ATTACH;FMTTYPE=image/webp:https://srilankafoundation.org/wp-content/uploads/2024/07/SundaySchool-59ay5p.tmp_.webp
GEO:34.197159;-118.61834
X-APPLE-STRUCTURED-LOCATION;VALUE=URI;X-ADDRESS=Shanthi Nikethanaya Buddhist Center 22543 Marlin Place West Hills CA 91307 United States;X-APPLE-RADIUS=500;X-TITLE=22543 Marlin Place:geo:-118.61834,34.197159
END:VEVENT
BEGIN:VEVENT
DTSTART;TZID=America/Los_Angeles:20150726T103000
DTEND;TZID=America/Los_Angeles:20150726T130000
DTSTAMP:20260421T135710
CREATED:20240730T224857Z
LAST-MODIFIED:20240730T224857Z
UID:10000700-1437906600-1437915600@srilankafoundation.org
SUMMARY:A Smile Through Sorrow "Sinahawa Atharin"
DESCRIPTION:Organized by the Nalanda College Old Boys Association of America (NCOBAA) “Sinahawa Atharin” is the latest Sri Lankan movie produced by Sanath Gunathilaka.\nCost:  Tickets are $20\n\nFor more information: Call Parakrama 909-975-1409\, Janaka 818-281-5301\, Wasantha 909-569-9291\, Uditha 310-985-9904\, Asoka 949-648-0823\, Thilak 818-614-7948
URL:https://srilankafoundation.org/event/a-smile-through-sorrow-sinahawa-atharin/
LOCATION:Vista Theater\, 4473 Sunset Dr.\, Los Angeles\, CA\, 90027\, United States
GEO:34.0981794;-118.2867734
X-APPLE-STRUCTURED-LOCATION;VALUE=URI;X-ADDRESS=Vista Theater 4473 Sunset Dr. Los Angeles CA 90027 United States;X-APPLE-RADIUS=500;X-TITLE=4473 Sunset Dr.:geo:-118.2867734,34.0981794
END:VEVENT
END:VCALENDAR