BEGIN:VCALENDAR
VERSION:2.0
PRODID:-//Sri Lanka Foundation - ECPv6.11.2//NONSGML v1.0//EN
CALSCALE:GREGORIAN
METHOD:PUBLISH
X-WR-CALNAME:Sri Lanka Foundation
X-ORIGINAL-URL:https://srilankafoundation.org
X-WR-CALDESC:Events for Sri Lanka Foundation
REFRESH-INTERVAL;VALUE=DURATION:PT1H
X-Robots-Tag:noindex
X-PUBLISHED-TTL:PT1H
BEGIN:VTIMEZONE
TZID:Australia/Sydney
BEGIN:STANDARD
TZOFFSETFROM:+1100
TZOFFSETTO:+1000
TZNAME:AEST
DTSTART:20230401T160000
END:STANDARD
BEGIN:DAYLIGHT
TZOFFSETFROM:+1000
TZOFFSETTO:+1100
TZNAME:AEDT
DTSTART:20230930T160000
END:DAYLIGHT
END:VTIMEZONE
BEGIN:VEVENT
DTSTART;TZID=Australia/Sydney:20230304T180000
DTEND;TZID=Australia/Sydney:20230304T230000
DTSTAMP:20260425T204644
CREATED:20240726T160237Z
LAST-MODIFIED:20240726T160237Z
UID:10000119-1677952800-1677970800@srilankafoundation.org
SUMMARY:DANCE WINE N DINE WITH CORRINE AND REDEEMERS FROM SRI LANKA
DESCRIPTION:Dance Wine n Dine with Corrine and Redeemers…\nDress Code – Dress to impress\n\nHost details – ANTS entertainment with Event 360\n\nPhoto booth with 360 Tube \, Free cocktail at entry\n\nBYO with variety of food stalls\n\nDate : Saturday 4 March 2023\nTime : 6:00 PM – 11:59 PM\nVenue : Cherrybrook Community and Cultural Center\n31 Shepherds Dr\, Cherrybrook NSW 2126\nTickets : trybooking\nFor More Information\n\nShanaka : 0402 675 110\n\nJay : 040 4635 534
URL:https://srilankafoundation.org/event/dance-wine-n-dine-with-corrine-and-redeemers-from-sri-lanka/
CATEGORIES:Musical Shows
ATTACH;FMTTYPE=image/webp:https://srilankafoundation.org/wp-content/uploads/2022/12/AUTUM-BREEZE-Dance-Wine-Dine-with-Corrine-Redeemers-from-Sri-lanka-Cherrybrook-Community-Centre-4th-March-2023-Sydney-event.webp
END:VEVENT
END:VCALENDAR