BEGIN:VCALENDAR
VERSION:2.0
PRODID:-//Sri Lanka Foundation - ECPv6.11.2//NONSGML v1.0//EN
CALSCALE:GREGORIAN
METHOD:PUBLISH
X-WR-CALNAME:Sri Lanka Foundation
X-ORIGINAL-URL:https://srilankafoundation.org
X-WR-CALDESC:Events for Sri Lanka Foundation
REFRESH-INTERVAL;VALUE=DURATION:PT1H
X-Robots-Tag:noindex
X-PUBLISHED-TTL:PT1H
BEGIN:VTIMEZONE
TZID:America/Los_Angeles
BEGIN:DAYLIGHT
TZOFFSETFROM:-0800
TZOFFSETTO:-0700
TZNAME:PDT
DTSTART:20240310T100000
END:DAYLIGHT
BEGIN:STANDARD
TZOFFSETFROM:-0700
TZOFFSETTO:-0800
TZNAME:PST
DTSTART:20241103T090000
END:STANDARD
END:VTIMEZONE
BEGIN:VEVENT
DTSTART;VALUE=DATE:20240615
DTEND;VALUE=DATE:20240616
DTSTAMP:20260425T071142
CREATED:20240726T155908Z
LAST-MODIFIED:20240726T155908Z
UID:10000072-1718409600-1718495999@srilankafoundation.org
SUMMARY:Mid Winter Charity Ball | AUS
DESCRIPTION:Save the date for the Mid Winter Charity Ball in support of the Foundation of Goodness in Sri Lanka. For tickets call Bertie 0414979483
URL:https://srilankafoundation.org/event/mid-winter-charity-ball-aus/
LOCATION:CA
CATEGORIES:Fundraisers
ATTACH;FMTTYPE=image/webp:https://srilankafoundation.org/wp-content/uploads/2024/06/CharityBall150624.webp
END:VEVENT
END:VCALENDAR