BEGIN:VCALENDAR
VERSION:2.0
PRODID:-//Sri Lanka Foundation - ECPv6.11.2//NONSGML v1.0//EN
CALSCALE:GREGORIAN
METHOD:PUBLISH
X-ORIGINAL-URL:https://srilankafoundation.org
X-WR-CALDESC:Events for Sri Lanka Foundation
REFRESH-INTERVAL;VALUE=DURATION:PT1H
X-Robots-Tag:noindex
X-PUBLISHED-TTL:PT1H
BEGIN:VTIMEZONE
TZID:Australia/Sydney
BEGIN:STANDARD
TZOFFSETFROM:+1100
TZOFFSETTO:+1000
TZNAME:AEST
DTSTART:20240406T160000
END:STANDARD
BEGIN:DAYLIGHT
TZOFFSETFROM:+1000
TZOFFSETTO:+1100
TZNAME:AEDT
DTSTART:20241005T160000
END:DAYLIGHT
END:VTIMEZONE
BEGIN:VTIMEZONE
TZID:Australia/Melbourne
BEGIN:STANDARD
TZOFFSETFROM:+1100
TZOFFSETTO:+1000
TZNAME:AEST
DTSTART:20240406T160000
END:STANDARD
BEGIN:DAYLIGHT
TZOFFSETFROM:+1000
TZOFFSETTO:+1100
TZNAME:AEDT
DTSTART:20241005T160000
END:DAYLIGHT
END:VTIMEZONE
BEGIN:VEVENT
DTSTART;TZID=Australia/Sydney:20240803T184500
DTEND;TZID=Australia/Sydney:20240803T234500
DTSTAMP:20260423T072441
CREATED:20240725T223842Z
LAST-MODIFIED:20240725T223842Z
UID:10000027-1722710700-1722728700@srilankafoundation.org
SUMMARY:Enchanted Evening 2024 | AUS
DESCRIPTION:Visakhians of NSW present\, “Enchanted Evening”\, a Gala Dinner Dance on the 3rd of August 2024 at The Epping Club. Canapes and cocktails served on arrival followed by a three-course dinner with a selection of wine\, beer and soft drinks. Live band & DJ music. For tickets visit: https://www.trybooking.com/events/landing/1215789
URL:https://srilankafoundation.org/event/enchanted-evening-2024-aus/
LOCATION:The Epping Club
CATEGORIES:Dinner Dance
ATTACH;FMTTYPE=image/webp:https://srilankafoundation.org/wp-content/uploads/2024/07/Enchanted-Evening-2024.webp
ORGANIZER;CN="Visakhians of NSW":MAILTO:visakhansw@gmail.com
GEO:-33.773384;151.080526
END:VEVENT
BEGIN:VEVENT
DTSTART;TZID=Australia/Melbourne:20240803T190000
DTEND;TZID=Australia/Melbourne:20240803T233000
DTSTAMP:20260423T072441
CREATED:20240730T214653Z
LAST-MODIFIED:20240730T224058Z
UID:10000596-1722711600-1722727800@srilankafoundation.org
SUMMARY:Annual Dinner Dance 2024 | AUS
DESCRIPTION:For inquiries\, contact Rukmin 0401030724
URL:https://srilankafoundation.org/event/annual-dinner-dance-2024-aus/
LOCATION:Hungarian Community Centre\, 760 Boronia Road\, Wantirna\, VIC\, 3152\, Australia
CATEGORIES:Dinner Dance
ATTACH;FMTTYPE=image/webp:https://srilankafoundation.org/wp-content/uploads/2024/07/ASLEA_Dinner_Dance_2024_Flyer.webp
GEO:-37.8467429;145.2213143
X-APPLE-STRUCTURED-LOCATION;VALUE=URI;X-ADDRESS=Hungarian Community Centre 760 Boronia Road Wantirna VIC 3152 Australia;X-APPLE-RADIUS=500;X-TITLE=760 Boronia Road:geo:145.2213143,-37.8467429
END:VEVENT
END:VCALENDAR