BEGIN:VCALENDAR
VERSION:2.0
PRODID:-//Sri Lanka Foundation - ECPv6.11.2//NONSGML v1.0//EN
CALSCALE:GREGORIAN
METHOD:PUBLISH
X-WR-CALNAME:Sri Lanka Foundation
X-ORIGINAL-URL:https://srilankafoundation.org
X-WR-CALDESC:Events for Sri Lanka Foundation
REFRESH-INTERVAL;VALUE=DURATION:PT1H
X-Robots-Tag:noindex
X-PUBLISHED-TTL:PT1H
BEGIN:VTIMEZONE
TZID:America/Los_Angeles
BEGIN:DAYLIGHT
TZOFFSETFROM:-0800
TZOFFSETTO:-0700
TZNAME:PDT
DTSTART:20150308T100000
END:DAYLIGHT
BEGIN:STANDARD
TZOFFSETFROM:-0700
TZOFFSETTO:-0800
TZNAME:PST
DTSTART:20151101T090000
END:STANDARD
BEGIN:DAYLIGHT
TZOFFSETFROM:-0800
TZOFFSETTO:-0700
TZNAME:PDT
DTSTART:20160313T100000
END:DAYLIGHT
BEGIN:STANDARD
TZOFFSETFROM:-0700
TZOFFSETTO:-0800
TZNAME:PST
DTSTART:20161106T090000
END:STANDARD
END:VTIMEZONE
BEGIN:VEVENT
DTSTART;TZID=America/Los_Angeles:20151231T113000
DTEND;TZID=America/Los_Angeles:20160101T010000
DTSTAMP:20260419T090052
CREATED:20240730T223751Z
LAST-MODIFIED:20240730T223751Z
UID:10000665-1451561400-1451610000@srilankafoundation.org
SUMMARY:New Year 2016 Celebration
DESCRIPTION:Atavisi Buddha Pooja\, Seth Pirith Chanting and Maha Shati Deva Puja by Ven. Sumanatissa Thero to invoke Blessings for the New Year.
URL:https://srilankafoundation.org/event/new-year-2016-celebration/
LOCATION:Lankarama Buddhist Institute
ATTACH;FMTTYPE=image/webp:https://srilankafoundation.org/wp-content/uploads/2024/07/NY-flyer-screenshot-M1GMhi.tmp_.webp
GEO:34.012335;-117.908057
END:VEVENT
BEGIN:VEVENT
DTSTART;TZID=America/Los_Angeles:20151231T193000
DTEND;TZID=America/Los_Angeles:20160101T010000
DTSTAMP:20260419T090052
CREATED:20240730T223754Z
LAST-MODIFIED:20240730T223754Z
UID:10000666-1451590200-1451610000@srilankafoundation.org
SUMMARY:New Year's Eve - Dinner Dance
DESCRIPTION:2016 NEW YEAR’S EVE DINNER DANCE WithCHAMINDA & PREETHISHA WALPOLA & DJ SHERVIN JAYAH\n\nTickets:Tickets $1000 For Reserved Table of 10 OR $220.00 for Couple\nContact:Chaminda Walpola at: (562) 735-9690
URL:https://srilankafoundation.org/event/new-years-eve-dinner-dance/
LOCATION:Peacock Garden Indian Cuisine Banquet\, 23347 Golden Springs Drive\, Diamond Bar\, CA\, 91765\, United States
ATTACH;FMTTYPE=image/webp:https://srilankafoundation.org/wp-content/uploads/2024/07/Dinner-Dance-03-1-GWlOcW.tmp_.webp
GEO:34.0176421;-117.8112329
X-APPLE-STRUCTURED-LOCATION;VALUE=URI;X-ADDRESS=Peacock Garden Indian Cuisine Banquet 23347 Golden Springs Drive Diamond Bar CA 91765 United States;X-APPLE-RADIUS=500;X-TITLE=23347 Golden Springs Drive:geo:-117.8112329,34.0176421
END:VEVENT
BEGIN:VEVENT
DTSTART;TZID=America/Los_Angeles:20151231T193000
DTEND;TZID=America/Los_Angeles:20160101T030000
DTSTAMP:20260419T090052
CREATED:20240730T223755Z
LAST-MODIFIED:20240730T223755Z
UID:10000667-1451590200-1451617200@srilankafoundation.org
SUMMARY:2016 NEW YEAR'S EVE DINNER DANCE WITH CHAMINDA & PREETHISHA WALPOLA & DJ SHERVIN JAYAH
DESCRIPTION:Tickets $1000 For Reserved Table of 10 ( This is the Corrected price )OR $220.00 for Couple\nAll Tickets Includes Lavish Veg. & Non-Veg. Indian Hot Appetizers & Buffet Dinner\, Open Bar from 7:30 pm to 12:00 Mid night\n(Open Bar from 7:30 PM to 12 Mid night ( which Includes in purchased ticket ) Unlimited Alchol listed here: Black Label\, Chivasl\, Vodka\, Rum\, Tequila\, Wine\, Beer & Soft Drinks )\n\nAt MidNight Champagne Toast KiriBath/Sambol Party Favors. Celebrate 2016 New Year’s Eve Dancing NON-STOP with SRI LANKAN BAILA\, BHANGRA\, BOLLYWOOD & HINDI\, FILM SONGS & WESTERN MUSIC.\n\nLimited Tickets. First Come First Served.\nFor Tickets Contact Chaminda Walpola at: (562) 735-9690\nFor Sponsorship/Further info Contact at: (562) 869-9009 singlanka@yahoo.com voiceoflata@yahoo.com
URL:https://srilankafoundation.org/event/2016-new-years-eve-dinner-dance-with-chaminda-preethisha-walpola-dj-shervin-jayah/
LOCATION:Peacock Garden Indian Cuisine Banquet\, 23347 Golden Springs Drive\, Diamond Bar\, CA\, 91765\, United States
GEO:34.0176421;-117.8112329
X-APPLE-STRUCTURED-LOCATION;VALUE=URI;X-ADDRESS=Peacock Garden Indian Cuisine Banquet 23347 Golden Springs Drive Diamond Bar CA 91765 United States;X-APPLE-RADIUS=500;X-TITLE=23347 Golden Springs Drive:geo:-117.8112329,34.0176421
END:VEVENT
BEGIN:VEVENT
DTSTART;TZID=America/Los_Angeles:20160101T070000
DTEND;TZID=America/Los_Angeles:20160101T150000
DTSTAMP:20260419T090052
CREATED:20240730T223601Z
LAST-MODIFIED:20240730T223601Z
UID:10000662-1451631600-1451660400@srilankafoundation.org
SUMMARY:New Year Blessing Ceremony
DESCRIPTION:“KIRI PIDU POOJA FOR THE ATAVISI BUDDHA” and “Seth Pirith” will be conducted.Fee: FREE.   All are welcome\nContact: Ven Katugasthota Uparathana Nayaka Thero at (301) 946-9437
URL:https://srilankafoundation.org/event/new-year-blessing-ceremony-2/
LOCATION:Maryland Buddhist Vihara\, 2600 Elmont St\, Wheaton\, MD\, 20902\, United States
ATTACH;FMTTYPE=image/webp:https://srilankafoundation.org/wp-content/uploads/2024/07/N.Y.-E-myRsq5.tmp_.webp
GEO:39.0441379;-77.053776
X-APPLE-STRUCTURED-LOCATION;VALUE=URI;X-ADDRESS=Maryland Buddhist Vihara 2600 Elmont St Wheaton MD 20902 United States;X-APPLE-RADIUS=500;X-TITLE=2600 Elmont St:geo:-77.053776,39.0441379
END:VEVENT
BEGIN:VEVENT
DTSTART;TZID=America/Los_Angeles:20160101T183000
DTEND;TZID=America/Los_Angeles:20160101T210000
DTSTAMP:20260419T090052
CREATED:20240730T223749Z
LAST-MODIFIED:20240730T223749Z
UID:10000664-1451673000-1451682000@srilankafoundation.org
SUMMARY:New Year Celebrations
DESCRIPTION:To invoke blessings of the Triple Gems in countering and balancing the ill effects of the planetary influences and also to usher the wellbeing and healthy existence in the coming year.\nAll are welcome
URL:https://srilankafoundation.org/event/new-year-celebrations/
LOCATION:Shanthi Nikethanaya Buddhist Center\, 22543 Marlin Place\, West Hills\, CA\, 91307\, United States
ATTACH;FMTTYPE=image/webp:https://srilankafoundation.org/wp-content/uploads/2024/07/unnamed-2-1-66O3Gp.tmp_.webp
GEO:34.197159;-118.61834
X-APPLE-STRUCTURED-LOCATION;VALUE=URI;X-ADDRESS=Shanthi Nikethanaya Buddhist Center 22543 Marlin Place West Hills CA 91307 United States;X-APPLE-RADIUS=500;X-TITLE=22543 Marlin Place:geo:-118.61834,34.197159
END:VEVENT
END:VCALENDAR