BEGIN:VCALENDAR
VERSION:2.0
PRODID:-//Sri Lanka Foundation - ECPv6.11.2//NONSGML v1.0//EN
CALSCALE:GREGORIAN
METHOD:PUBLISH
X-ORIGINAL-URL:https://srilankafoundation.org
X-WR-CALDESC:Events for Sri Lanka Foundation
REFRESH-INTERVAL;VALUE=DURATION:PT1H
X-Robots-Tag:noindex
X-PUBLISHED-TTL:PT1H
BEGIN:VTIMEZONE
TZID:America/Los_Angeles
BEGIN:DAYLIGHT
TZOFFSETFROM:-0800
TZOFFSETTO:-0700
TZNAME:PDT
DTSTART:20150308T100000
END:DAYLIGHT
BEGIN:STANDARD
TZOFFSETFROM:-0700
TZOFFSETTO:-0800
TZNAME:PST
DTSTART:20151101T090000
END:STANDARD
END:VTIMEZONE
BEGIN:VEVENT
DTSTART;TZID=America/Los_Angeles:20151116T100000
DTEND;TZID=America/Los_Angeles:20151116T150000
DTSTAMP:20260420T210047
CREATED:20240730T223913Z
LAST-MODIFIED:20240730T223913Z
UID:10000673-1447668000-1447686000@srilankafoundation.org
SUMMARY:UWest Peace Walk & Multifaith Prayer
DESCRIPTION:The University of the West invites everyone to join them hand in hand to reflect their unity and diversity.Fee: free and open to public\nContact: Ven. Sumitta Thero at sumitta2012@gmail.com
URL:https://srilankafoundation.org/event/uwest-peace-walk-multifaith-prayer/
LOCATION:University of the West\, 1409 Walnut Grove Ave\, Rosemead\, CA\, 91770\, United States
ATTACH;FMTTYPE=image/webp:https://srilankafoundation.org/wp-content/uploads/2024/07/IMG_1149-3hgHh7.tmp_.webp
GEO:34.0460729;-118.0833485
X-APPLE-STRUCTURED-LOCATION;VALUE=URI;X-ADDRESS=University of the West 1409 Walnut Grove Ave Rosemead CA 91770 United States;X-APPLE-RADIUS=500;X-TITLE=1409 Walnut Grove Ave:geo:-118.0833485,34.0460729
END:VEVENT
END:VCALENDAR