BEGIN:VCALENDAR
VERSION:2.0
PRODID:-//Sri Lanka Foundation - ECPv6.11.2//NONSGML v1.0//EN
CALSCALE:GREGORIAN
METHOD:PUBLISH
X-ORIGINAL-URL:https://srilankafoundation.org
X-WR-CALDESC:Events for Sri Lanka Foundation
REFRESH-INTERVAL;VALUE=DURATION:PT1H
X-Robots-Tag:noindex
X-PUBLISHED-TTL:PT1H
BEGIN:VTIMEZONE
TZID:America/Los_Angeles
BEGIN:DAYLIGHT
TZOFFSETFROM:-0800
TZOFFSETTO:-0700
TZNAME:PDT
DTSTART:20150308T100000
END:DAYLIGHT
BEGIN:STANDARD
TZOFFSETFROM:-0700
TZOFFSETTO:-0800
TZNAME:PST
DTSTART:20151101T090000
END:STANDARD
END:VTIMEZONE
BEGIN:VEVENT
DTSTART;TZID=America/Los_Angeles:20151025T140000
DTEND;TZID=America/Los_Angeles:20151025T190000
DTSTAMP:20260420T210113
CREATED:20240730T224600Z
LAST-MODIFIED:20240730T224600Z
UID:10000681-1445781600-1445799600@srilankafoundation.org
SUMMARY:Family Fright Day on a Sunday
DESCRIPTION:Sri Lanka Foundation presents Family Fright Day on a Sunday. Bring the whole family and all your friends for incredible thrills and chills!!\nTickets: Kids – $5.00\, Parents – Free\n\nContact: Sri Lanka Foundation at (213) 483 0126 or email us at info@srilankafoundation.org
URL:https://srilankafoundation.org/event/family-fright-day-on-a-sunday/
LOCATION:Brookside Park\, 360 N. Arroyo Blvd.\, Pasadena\, CA\, 91103\, United States
ATTACH;FMTTYPE=image/webp:https://srilankafoundation.org/wp-content/uploads/2024/07/SLF_Halloween_Info-fvo3r-1-roQEU5.tmp_.webp
GEO:34.1517121;-118.1646408
X-APPLE-STRUCTURED-LOCATION;VALUE=URI;X-ADDRESS=Brookside Park 360 N. Arroyo Blvd. Pasadena CA 91103 United States;X-APPLE-RADIUS=500;X-TITLE=360 N. Arroyo Blvd.:geo:-118.1646408,34.1517121
END:VEVENT
END:VCALENDAR