BEGIN:VCALENDAR
VERSION:2.0
PRODID:-//Sri Lanka Foundation - ECPv6.11.2//NONSGML v1.0//EN
CALSCALE:GREGORIAN
METHOD:PUBLISH
X-ORIGINAL-URL:https://srilankafoundation.org
X-WR-CALDESC:Events for Sri Lanka Foundation
REFRESH-INTERVAL;VALUE=DURATION:PT1H
X-Robots-Tag:noindex
X-PUBLISHED-TTL:PT1H
BEGIN:VTIMEZONE
TZID:America/Los_Angeles
BEGIN:DAYLIGHT
TZOFFSETFROM:-0800
TZOFFSETTO:-0700
TZNAME:PDT
DTSTART:20150308T100000
END:DAYLIGHT
BEGIN:STANDARD
TZOFFSETFROM:-0700
TZOFFSETTO:-0800
TZNAME:PST
DTSTART:20151101T090000
END:STANDARD
END:VTIMEZONE
BEGIN:VEVENT
DTSTART;TZID=America/Los_Angeles:20151018T083000
DTEND;TZID=America/Los_Angeles:20151018T140000
DTSTAMP:20260420T210112
CREATED:20240730T224606Z
LAST-MODIFIED:20240730T224606Z
UID:10000683-1445157000-1445176800@srilankafoundation.org
SUMMARY:Katina Day - Robe Offering Ceremony
DESCRIPTION:Katina Robe Offering Ceremony is on of the greatest meritorious deeds.\nEveryone is welcome!\n\nFor more information call 818-710-8474/818-629-8670
URL:https://srilankafoundation.org/event/katina-day-robe-offering-ceremony/
LOCATION:Shanthi Nikethanaya Buddhist Center\, 22543 Marlin Place\, West Hills\, CA\, 91307\, United States
ATTACH;FMTTYPE=image/webp:https://srilankafoundation.org/wp-content/uploads/2024/07/facebook_1444776596723-nPkORu.tmp_.webp
GEO:34.197159;-118.61834
X-APPLE-STRUCTURED-LOCATION;VALUE=URI;X-ADDRESS=Shanthi Nikethanaya Buddhist Center 22543 Marlin Place West Hills CA 91307 United States;X-APPLE-RADIUS=500;X-TITLE=22543 Marlin Place:geo:-118.61834,34.197159
END:VEVENT
END:VCALENDAR