BEGIN:VCALENDAR
VERSION:2.0
PRODID:-//Sri Lanka Foundation - ECPv6.11.2//NONSGML v1.0//EN
CALSCALE:GREGORIAN
METHOD:PUBLISH
X-ORIGINAL-URL:https://srilankafoundation.org
X-WR-CALDESC:Events for Sri Lanka Foundation
REFRESH-INTERVAL;VALUE=DURATION:PT1H
X-Robots-Tag:noindex
X-PUBLISHED-TTL:PT1H
BEGIN:VTIMEZONE
TZID:America/Los_Angeles
BEGIN:DAYLIGHT
TZOFFSETFROM:-0800
TZOFFSETTO:-0700
TZNAME:PDT
DTSTART:20150308T100000
END:DAYLIGHT
BEGIN:STANDARD
TZOFFSETFROM:-0700
TZOFFSETTO:-0800
TZNAME:PST
DTSTART:20151101T090000
END:STANDARD
END:VTIMEZONE
BEGIN:VEVENT
DTSTART;TZID=America/Los_Angeles:20151017T183000
DTEND;TZID=America/Los_Angeles:20151017T233000
DTSTAMP:20260421T093812
CREATED:20240730T224732Z
LAST-MODIFIED:20240730T224732Z
UID:10000684-1445106600-1445124600@srilankafoundation.org
SUMMARY:Maroon & Silver Nite 2015
DESCRIPTION:Nalandians in Sydney presents MAROON & SILVER NITE 2015 featuring Desmond de Silva.  Scrumptious Buffet Dinner\, Wine\, Live Music\, Prizes and Many More!\nTickets: TBD\n\nFor more information: Sathis De Silva\nEmail: sdesilva@gwf.com.au  Phone: +61 409 317 652
URL:https://srilankafoundation.org/event/maroon-silver-nite-2015/
LOCATION:Bowman Hall\, 2/125 Main St.\, Balcktown\, NSW\, 2125\, Australia
GEO:-33.7733009;150.9091495
X-APPLE-STRUCTURED-LOCATION;VALUE=URI;X-ADDRESS=Bowman Hall 2/125 Main St. Balcktown NSW 2125 Australia;X-APPLE-RADIUS=500;X-TITLE=2/125 Main St.:geo:150.9091495,-33.7733009
END:VEVENT
END:VCALENDAR