BEGIN:VCALENDAR
VERSION:2.0
PRODID:-//Sri Lanka Foundation - ECPv6.11.2//NONSGML v1.0//EN
CALSCALE:GREGORIAN
METHOD:PUBLISH
X-ORIGINAL-URL:https://srilankafoundation.org
X-WR-CALDESC:Events for Sri Lanka Foundation
REFRESH-INTERVAL;VALUE=DURATION:PT1H
X-Robots-Tag:noindex
X-PUBLISHED-TTL:PT1H
BEGIN:VTIMEZONE
TZID:America/Los_Angeles
BEGIN:DAYLIGHT
TZOFFSETFROM:-0800
TZOFFSETTO:-0700
TZNAME:PDT
DTSTART:20150308T100000
END:DAYLIGHT
BEGIN:STANDARD
TZOFFSETFROM:-0700
TZOFFSETTO:-0800
TZNAME:PST
DTSTART:20151101T090000
END:STANDARD
END:VTIMEZONE
BEGIN:VEVENT
DTSTART;TZID=America/Los_Angeles:20150815T090000
DTEND;TZID=America/Los_Angeles:20150815T210000
DTSTAMP:20260422T201421
CREATED:20240730T224833Z
LAST-MODIFIED:20240730T224833Z
UID:10000696-1439629200-1439672400@srilankafoundation.org
SUMMARY:Sri Lanka Day 2015
DESCRIPTION:Our annual Sri Lanka Day celebration has moved to Pasadena!
URL:https://srilankafoundation.org/event/sri-lanka-day-2015/
LOCATION:Paseo Colorado\, 280 E. Colorado Blvd.\, Pasadena\, CA\, 91101\, United States
ATTACH;FMTTYPE=image/webp:https://srilankafoundation.org/wp-content/uploads/2024/07/SLDay-2015-Ndl4x0.tmp_.webp
GEO:34.1455508;-118.1445986
X-APPLE-STRUCTURED-LOCATION;VALUE=URI;X-ADDRESS=Paseo Colorado 280 E. Colorado Blvd. Pasadena CA 91101 United States;X-APPLE-RADIUS=500;X-TITLE=280 E. Colorado Blvd.:geo:-118.1445986,34.1455508
END:VEVENT
END:VCALENDAR