BEGIN:VCALENDAR
VERSION:2.0
PRODID:-//Sri Lanka Foundation - ECPv6.11.2//NONSGML v1.0//EN
CALSCALE:GREGORIAN
METHOD:PUBLISH
X-ORIGINAL-URL:https://srilankafoundation.org
X-WR-CALDESC:Events for Sri Lanka Foundation
REFRESH-INTERVAL;VALUE=DURATION:PT1H
X-Robots-Tag:noindex
X-PUBLISHED-TTL:PT1H
BEGIN:VTIMEZONE
TZID:America/Los_Angeles
BEGIN:DAYLIGHT
TZOFFSETFROM:-0800
TZOFFSETTO:-0700
TZNAME:PDT
DTSTART:20150308T100000
END:DAYLIGHT
BEGIN:STANDARD
TZOFFSETFROM:-0700
TZOFFSETTO:-0800
TZNAME:PST
DTSTART:20151101T090000
END:STANDARD
END:VTIMEZONE
BEGIN:VEVENT
DTSTART;TZID=America/Los_Angeles:20150718T080000
DTEND;TZID=America/Los_Angeles:20150718T190000
DTSTAMP:20260422T040307
CREATED:20240730T224902Z
LAST-MODIFIED:20240730T224902Z
UID:10000702-1437206400-1437246000@srilankafoundation.org
SUMMARY:6-A Side Cricket Tournament
DESCRIPTION:Virginia Legends Cricket Club proudly presents 6-A side Cricket Tournament\nTeam Fee is $200\n\n16 Maximum teams\n\nWinners $1000 and Runners up $500\n\nCost: Free\, come show your support.\n\nFor more information: valegends@hotmail.com\n\nJerome (517) 242-0363\n\nChaminda (703) 855-4561\n\nPrince (571) 620-4641\n\nSenaka (703) 896-6445
URL:https://srilankafoundation.org/event/6-a-side-cricket-tournament/
LOCATION:Lake Fairfax Park\, 1400 Lake Fairfax Dr.\, Reston\, VA\, 20190\, United States
GEO:38.9659491;-77.3173571
X-APPLE-STRUCTURED-LOCATION;VALUE=URI;X-ADDRESS=Lake Fairfax Park 1400 Lake Fairfax Dr. Reston VA 20190 United States;X-APPLE-RADIUS=500;X-TITLE=1400 Lake Fairfax Dr.:geo:-77.3173571,38.9659491
END:VEVENT
BEGIN:VEVENT
DTSTART;TZID=America/Los_Angeles:20150718T113000
DTEND;TZID=America/Los_Angeles:20150718T170000
DTSTAMP:20260422T040307
CREATED:20240730T224915Z
LAST-MODIFIED:20240730T224915Z
UID:10000704-1437219000-1437238800@srilankafoundation.org
SUMMARY:Peterite Golf Classic - PGC 2015
DESCRIPTION:St. Peters College Old Boys Union of Washington presents the 4th Annual Peterite Golf Classic 2015\, a charity golf tournament in aid of two children. Registrations close on July 7\, 2015.\nCost:$85\n\nFor more information: visit www.peteritegolfclassic.com
URL:https://srilankafoundation.org/event/peterite-golf-classic-pgc-2015/
LOCATION:Virginia Oaks Golf Club\, 7950 Virginia Oaks Dr.\, Gainsville\, VA\, 20155\, United States
ATTACH;FMTTYPE=image/webp:https://srilankafoundation.org/wp-content/uploads/2024/07/Golf-KK6IxF.tmp_.webp
GEO:38.7845557;-77.617573
X-APPLE-STRUCTURED-LOCATION;VALUE=URI;X-ADDRESS=Virginia Oaks Golf Club 7950 Virginia Oaks Dr. Gainsville VA 20155 United States;X-APPLE-RADIUS=500;X-TITLE=7950 Virginia Oaks Dr.:geo:-77.617573,38.7845557
END:VEVENT
BEGIN:VEVENT
DTSTART;TZID=America/Los_Angeles:20150718T183000
DTEND;TZID=America/Los_Angeles:20150718T220000
DTSTAMP:20260422T040307
CREATED:20240730T224905Z
LAST-MODIFIED:20240730T224905Z
UID:10000703-1437244200-1437256800@srilankafoundation.org
SUMMARY:Rasanjalee
DESCRIPTION:Sinhalese Cultural Forum of NSW presents Rasanjalee Season 1 featuring Bathiya & Santhush\, Saranga & Umali\, Channa Upuli Dance Troupe with Sydney Sri Lankan Talents.\nTickets: $61.17 and $81.56\n\nFor more information: 047 0202 919
URL:https://srilankafoundation.org/event/rasanjalee/
LOCATION:The Concourse\, 409 Victoria\, Chatswood\, NSW\, 2067\, Australia
ATTACH;FMTTYPE=image/webp:https://srilankafoundation.org/wp-content/uploads/2024/07/Rasanjalee-4g6Xy0.tmp_.webp
GEO:-33.7957148;151.1836982
X-APPLE-STRUCTURED-LOCATION;VALUE=URI;X-ADDRESS=The Concourse 409 Victoria Chatswood NSW 2067 Australia;X-APPLE-RADIUS=500;X-TITLE=409 Victoria:geo:151.1836982,-33.7957148
END:VEVENT
END:VCALENDAR