BEGIN:VCALENDAR
VERSION:2.0
PRODID:-//Sri Lanka Foundation - ECPv6.11.2//NONSGML v1.0//EN
CALSCALE:GREGORIAN
METHOD:PUBLISH
X-ORIGINAL-URL:https://srilankafoundation.org
X-WR-CALDESC:Events for Sri Lanka Foundation
REFRESH-INTERVAL;VALUE=DURATION:PT1H
X-Robots-Tag:noindex
X-PUBLISHED-TTL:PT1H
BEGIN:VTIMEZONE
TZID:America/Los_Angeles
BEGIN:DAYLIGHT
TZOFFSETFROM:-0800
TZOFFSETTO:-0700
TZNAME:PDT
DTSTART:20150308T100000
END:DAYLIGHT
BEGIN:STANDARD
TZOFFSETFROM:-0700
TZOFFSETTO:-0800
TZNAME:PST
DTSTART:20151101T090000
END:STANDARD
END:VTIMEZONE
BEGIN:VEVENT
DTSTART;VALUE=DATE:20150529
DTEND;VALUE=DATE:20150601
DTSTAMP:20260422T112602
CREATED:20240730T225107Z
LAST-MODIFIED:20240730T225107Z
UID:10000728-1432857600-1433116799@srilankafoundation.org
SUMMARY:Youth Retreat
DESCRIPTION:Georgia Buddhist Vihara will be conducting the youth retreat this year and this annual event will be open to anyone between the ages of 12 and 19 years old. During the retreat\, participants will reside on the Vihara’s premises and undertake group and individual meditation practice as well as engage in Dhamma study and discussions. Please inform Georgia Buddhist Vihara if you or a family member will be attending the event to accommodate those who are interested in participating. \nCost: Free\, Open to all. \n\nContact: Bhante Panamwela. Wajirabuddhi\, Chief Abbot of GBV @ (770) 987 8442  
URL:https://srilankafoundation.org/event/youth-retreat/
LOCATION:Georgia Buddhist Vihara\, 3153 Miller Road\, Lithonia\, GA\, 30038\, United States
GEO:33.697104;-84.18679
X-APPLE-STRUCTURED-LOCATION;VALUE=URI;X-ADDRESS=Georgia Buddhist Vihara 3153 Miller Road Lithonia GA 30038 United States;X-APPLE-RADIUS=500;X-TITLE=3153 Miller Road:geo:-84.18679,33.697104
END:VEVENT
BEGIN:VEVENT
DTSTART;VALUE=DATE:20150529
DTEND;VALUE=DATE:20150608
DTSTAMP:20260422T112602
CREATED:20240730T225059Z
LAST-MODIFIED:20240730T225059Z
UID:10000727-1432857600-1433721599@srilankafoundation.org
SUMMARY:Ordination and Retreat for Adults
DESCRIPTION:Georgia Buddhist Vihara will be conducting an adult ordination and retreat. During the retreat\, participants will reside on the Vihara’s premises and undertake group and individual meditation practice as well as engage in Dhamma study and discussions. Please inform Georgia Buddhist Vihara if you or a family member will be attending the event to accommodate those who are interested in participating. \nCost: Free\, Open to all.\n\nContact: Bhante Panamwela. Wajirabuddhi\, Chief Abbot of GBV @ (770) 987 8442
URL:https://srilankafoundation.org/event/ordination-and-retreat-for-adults/
LOCATION:Georgia Buddhist Vihara\, 3153 Miller Road\, Lithonia\, GA\, 30038\, United States
GEO:33.697104;-84.18679
X-APPLE-STRUCTURED-LOCATION;VALUE=URI;X-ADDRESS=Georgia Buddhist Vihara 3153 Miller Road Lithonia GA 30038 United States;X-APPLE-RADIUS=500;X-TITLE=3153 Miller Road:geo:-84.18679,33.697104
END:VEVENT
BEGIN:VEVENT
DTSTART;TZID=America/Los_Angeles:20150530T100000
DTEND;TZID=America/Los_Angeles:20150530T180000
DTSTAMP:20260422T112602
CREATED:20240730T225039Z
LAST-MODIFIED:20240730T225039Z
UID:10000721-1432980000-1433008800@srilankafoundation.org
SUMMARY:Battle of the Maroons: Los Angeles
DESCRIPTION:Join us for the Battle of the Maroons: Los Angles. Ananda College OBA of the West Coast Vs. Nalanda College OBA of America T20 Cricket Encounter in Santa Ana. There will be live music\, kids entertainment\, free food and much more.\nCost: Free Event\n\nFor more information contact: Nalaka: 949-394-8660\, Para: 909-975-1409\, Janaka: 818-281-5301\, Rakshita: 562-254-4865
URL:https://srilankafoundation.org/event/battle-of-the-maroons-los-angeles/
LOCATION:Centennial Regional Park\, 3000 W. Edinger Ave.\, Santa Ana\, CA\, 92704\, United States
GEO:33.7260294;-117.9099205
X-APPLE-STRUCTURED-LOCATION;VALUE=URI;X-ADDRESS=Centennial Regional Park 3000 W. Edinger Ave. Santa Ana CA 92704 United States;X-APPLE-RADIUS=500;X-TITLE=3000 W. Edinger Ave.:geo:-117.9099205,33.7260294
END:VEVENT
BEGIN:VEVENT
DTSTART;TZID=America/Los_Angeles:20150530T120000
DTEND;TZID=America/Los_Angeles:20150530T220000
DTSTAMP:20260422T112602
CREATED:20240730T225054Z
LAST-MODIFIED:20240730T225054Z
UID:10000725-1432987200-1433023200@srilankafoundation.org
SUMMARY:Pearl Island Vesak-Poson Dansala
DESCRIPTION:Description: Come Enjoy authentic Sri Lankan food at our free food stand.\nCost: Free\n\nFor more information: Call us 818-887-8894
URL:https://srilankafoundation.org/event/pearl-island-vesak-poson-dansala/
LOCATION:Pearl Island\, 22730 Roscoe Blvd.\, West Hills\, CA\, 91304\, United States
GEO:34.219405;-118.6219583
X-APPLE-STRUCTURED-LOCATION;VALUE=URI;X-ADDRESS=Pearl Island 22730 Roscoe Blvd. West Hills CA 91304 United States;X-APPLE-RADIUS=500;X-TITLE=22730 Roscoe Blvd.:geo:-118.6219583,34.219405
END:VEVENT
BEGIN:VEVENT
DTSTART;TZID=America/Los_Angeles:20150530T173000
DTEND;TZID=America/Los_Angeles:20150530T200000
DTSTAMP:20260422T112602
CREATED:20240730T225053Z
LAST-MODIFIED:20240730T225053Z
UID:10000724-1433007000-1433016000@srilankafoundation.org
SUMMARY:Madura Gee Sandawa
DESCRIPTION:Description: Bring your family & friends and join us as we perform Sri Lankan songs. Music directed by Ramani Weerasinghe. All proceeds will go towards Bandula Priyantha’s medical expenses. Bandula\, a loving husband and a father of three is suffering from liver failure and needs emergency transportation to Global Hospital in Chennai.  Join us as we help his family through this hard time.\nCost: $20 (Dinner included)\n\nFor more information: Sumudu Ranawaka 818-687-9385
URL:https://srilankafoundation.org/event/madura-gee-sandawa/
LOCATION:Maithree Vihara\, 10819 Penrose St.\,\, Sun Valley\, CA\, 91352\, United States
GEO:34.2323408;-118.3656729
X-APPLE-STRUCTURED-LOCATION;VALUE=URI;X-ADDRESS=Maithree Vihara 10819 Penrose St. Sun Valley CA 91352 United States;X-APPLE-RADIUS=500;X-TITLE=10819 Penrose St.\,:geo:-118.3656729,34.2323408
END:VEVENT
BEGIN:VEVENT
DTSTART;TZID=America/Los_Angeles:20150530T180000
DTEND;TZID=America/Los_Angeles:20150530T214500
DTSTAMP:20260422T112602
CREATED:20240730T225042Z
LAST-MODIFIED:20240730T225042Z
UID:10000722-1433008800-1433022300@srilankafoundation.org
SUMMARY:Wonderful Sri Lanka "Sundara Lanka"
DESCRIPTION:Description: Sri Lanka United (SLU) began in 2011 at the University of California Irvine\, with a Sri Lankan student body of around 20 -30 individuals.  “Sundara Lanka” or “Wonderful Sri Lanka” will be our second biennial culture show in which we display our culture to the University students and members of the Sri Lankan American community. Funds were raised for this show through making Sri Lankan pastries and selling them to students on campus and explaining to them our traditional foods. What sets our show apart from other community shows is that the show is completely run by students and for the students of this University and the younger generations of Sri Lankans. Also all proceeds will be donated to Educate Lanka Organization.\n \n\nCost:  UCI Students:$5\,   Non-Students:$15 \, At the door: $20\n\n \n\nFor more information: Buy tickets at http://bit.ly/SLUCultureShow
URL:https://srilankafoundation.org/event/wonderful-sri-lanka-sundara-lanka/
LOCATION:Crystal Cove Auditorium\, Student Center Room A-220\, Irvine\, CA\, 92697\, United States
GEO:33.6467217;-117.8455091
X-APPLE-STRUCTURED-LOCATION;VALUE=URI;X-ADDRESS=Crystal Cove Auditorium Student Center Room A-220 Irvine CA 92697 United States;X-APPLE-RADIUS=500;X-TITLE=Student Center Room A-220:geo:-117.8455091,33.6467217
END:VEVENT
BEGIN:VEVENT
DTSTART;TZID=America/Los_Angeles:20150530T183000
DTEND;TZID=America/Los_Angeles:20150530T233000
DTSTAMP:20260422T112602
CREATED:20240730T225051Z
LAST-MODIFIED:20240730T225051Z
UID:10000723-1433010600-1433028600@srilankafoundation.org
SUMMARY:Autumn Blast
DESCRIPTION:Description: Sri Lanka Association of NSW proudly presents Autumn Blast Annual Dinner Dance\, Featuring Misty\nTickets: $150\n\nFor more information: Ruwan 0421-334-370\, Niranjan 0412-710-296 Devika 0437-700-102\, Renu 0413-817-087
URL:https://srilankafoundation.org/event/autumn-blast/
LOCATION:Four Seasons Hotel Sydney\, 199 George St.\, Sydney\, Australia
GEO:-33.861667;151.207666
X-APPLE-STRUCTURED-LOCATION;VALUE=URI;X-ADDRESS=Four Seasons Hotel Sydney 199 George St. Sydney Australia;X-APPLE-RADIUS=500;X-TITLE=199 George St.:geo:151.207666,-33.861667
END:VEVENT
BEGIN:VEVENT
DTSTART;TZID=America/Los_Angeles:20150530T190000
DTEND;TZID=America/Los_Angeles:20150530T230000
DTSTAMP:20260422T112602
CREATED:20240730T225058Z
LAST-MODIFIED:20240730T225058Z
UID:10000726-1433012400-1433026800@srilankafoundation.org
SUMMARY:Night with Sunflower Live in Concert
DESCRIPTION:Save the date to enjoy a night with Sunflower for the first time in Sydney.\nTickets: Prices are to be announced.\n\nFor More Information: bonyfernando@hotmail.com\n\n 
URL:https://srilankafoundation.org/event/night-with-sunflower-live-in-concert/
LOCATION:Sydney Baha’i Centre Silverwater\, 107 Derby Street\, Silverwater\, NSW\, 2128\, Australia
ATTACH;FMTTYPE=image/webp:https://srilankafoundation.org/wp-content/uploads/2024/07/sunflower-xrAlcO.tmp_.webp
GEO:-33.832392;151.037743
X-APPLE-STRUCTURED-LOCATION;VALUE=URI;X-ADDRESS=Sydney Baha’i Centre Silverwater 107 Derby Street Silverwater NSW 2128 Australia;X-APPLE-RADIUS=500;X-TITLE=107 Derby Street:geo:151.037743,-33.832392
END:VEVENT
END:VCALENDAR