BEGIN:VCALENDAR
VERSION:2.0
PRODID:-//Sri Lanka Foundation - ECPv6.11.2//NONSGML v1.0//EN
CALSCALE:GREGORIAN
METHOD:PUBLISH
X-WR-CALNAME:Sri Lanka Foundation
X-ORIGINAL-URL:https://srilankafoundation.org
X-WR-CALDESC:Events for Sri Lanka Foundation
REFRESH-INTERVAL;VALUE=DURATION:PT1H
X-Robots-Tag:noindex
X-PUBLISHED-TTL:PT1H
BEGIN:VTIMEZONE
TZID:America/Los_Angeles
BEGIN:DAYLIGHT
TZOFFSETFROM:-0800
TZOFFSETTO:-0700
TZNAME:PDT
DTSTART:20150308T100000
END:DAYLIGHT
BEGIN:STANDARD
TZOFFSETFROM:-0700
TZOFFSETTO:-0800
TZNAME:PST
DTSTART:20151101T090000
END:STANDARD
END:VTIMEZONE
BEGIN:VEVENT
DTSTART;TZID=America/Los_Angeles:20150523T110000
DTEND;TZID=America/Los_Angeles:20150523T140000
DTSTAMP:20260421T135607
CREATED:20240730T225150Z
LAST-MODIFIED:20240730T225150Z
UID:10000739-1432378800-1432389600@srilankafoundation.org
SUMMARY:Doris Wiratunga Memorial Cricket Match At Woodley
DESCRIPTION:Description: Southern California Cricket Association (SCCA)  is hosting  a Cricket Match to commemorate the lives of Dr. A  Verity\, Roger Levy and Cliff Severn\,  also included is Doris Wiratunga who was the chief scorer for the SCCA.\n\nTickets: No Fee/free parking\n\nFor more details contact: Roy Jayasinghe at 818-470-4463 or email royjay@sbcglobal.net\n                                        Rohan Wiratunga at 818-470-4463 or email rohanwiratunga@yahoo.com
URL:https://srilankafoundation.org/event/doris-wiratunga-memorial-cricket-match-at-woodley/
LOCATION:Woodley Cricket Grounds\, 6350 Woodley Ave.\, Van Nuys\, CA\, 91436\, United States
GEO:34.1786563;-118.4764638
X-APPLE-STRUCTURED-LOCATION;VALUE=URI;X-ADDRESS=Woodley Cricket Grounds 6350 Woodley Ave. Van Nuys CA 91436 United States;X-APPLE-RADIUS=500;X-TITLE=6350 Woodley Ave.:geo:-118.4764638,34.1786563
END:VEVENT
BEGIN:VEVENT
DTSTART;TZID=America/Los_Angeles:20150523T143000
DTEND;TZID=America/Los_Angeles:20150523T143000
DTSTAMP:20260421T135607
CREATED:20240730T225121Z
LAST-MODIFIED:20240730T225121Z
UID:10000733-1432391400-1432391400@srilankafoundation.org
SUMMARY:Sinhalese and Tamil New Year celebrations
DESCRIPTION:Hosted by SRI LANKAN FRIENDSHIP ASSOCIATION OF BRITISH COLUMBIA
URL:https://srilankafoundation.org/event/sinhalese-and-tamil-new-year-celebrations/
LOCATION:Princess Margaret Secondary\, 12870-72nd Ave.\, Surrey\, BC\, V3W 2M9\, Canada
GEO:49.1334123;-122.8660209
X-APPLE-STRUCTURED-LOCATION;VALUE=URI;X-ADDRESS=Princess Margaret Secondary 12870-72nd Ave. Surrey BC V3W 2M9 Canada;X-APPLE-RADIUS=500;X-TITLE=12870-72nd Ave.:geo:-122.8660209,49.1334123
END:VEVENT
BEGIN:VEVENT
DTSTART;TZID=America/Los_Angeles:20150523T143000
DTEND;TZID=America/Los_Angeles:20150523T143000
DTSTAMP:20260421T135607
CREATED:20240730T225124Z
LAST-MODIFIED:20240730T225124Z
UID:10000734-1432391400-1432391400@srilankafoundation.org
SUMMARY:Sinhalese and Tamil New Year celebrations
DESCRIPTION:Hosted by SRI LANKAN FRIENDSHIP ASSOCIATION OF BRITISH COLUMBIA
URL:https://srilankafoundation.org/event/sinhalese-and-tamil-new-year-celebrations-2/
LOCATION:Princess Margaret Secondary\, 12870-72nd Ave.\, Surrey\, BC\, V3W 2M9\, Canada
GEO:49.1334123;-122.8660209
X-APPLE-STRUCTURED-LOCATION;VALUE=URI;X-ADDRESS=Princess Margaret Secondary 12870-72nd Ave. Surrey BC V3W 2M9 Canada;X-APPLE-RADIUS=500;X-TITLE=12870-72nd Ave.:geo:-122.8660209,49.1334123
END:VEVENT
BEGIN:VEVENT
DTSTART;TZID=America/Los_Angeles:20150523T143000
DTEND;TZID=America/Los_Angeles:20150523T143000
DTSTAMP:20260421T135607
CREATED:20240730T225125Z
LAST-MODIFIED:20240730T225125Z
UID:10000735-1432391400-1432391400@srilankafoundation.org
SUMMARY:Sinhalese and Tamil New Year celebrations
DESCRIPTION:Hosted by SRI LANKAN FRIENDSHIP ASSOCIATION OF BRITISH COLUMBIA
URL:https://srilankafoundation.org/event/sinhalese-and-tamil-new-year-celebrations-3/
LOCATION:Princess Margaret Secondary\, 12870-72nd Ave.\, Surrey\, BC\, V3W 2M9\, Canada
GEO:49.1334123;-122.8660209
X-APPLE-STRUCTURED-LOCATION;VALUE=URI;X-ADDRESS=Princess Margaret Secondary 12870-72nd Ave. Surrey BC V3W 2M9 Canada;X-APPLE-RADIUS=500;X-TITLE=12870-72nd Ave.:geo:-122.8660209,49.1334123
END:VEVENT
BEGIN:VEVENT
DTSTART;TZID=America/Los_Angeles:20150523T143000
DTEND;TZID=America/Los_Angeles:20150523T143000
DTSTAMP:20260421T135607
CREATED:20240730T225126Z
LAST-MODIFIED:20240730T225126Z
UID:10000737-1432391400-1432391400@srilankafoundation.org
SUMMARY:Sinhalese and Tamil New Year celebrations
DESCRIPTION:Hosted by SRI LANKAN FRIENDSHIP ASSOCIATION OF BRITISH COLUMBIA
URL:https://srilankafoundation.org/event/sinhalese-and-tamil-new-year-celebrations-5/
LOCATION:Princess Margaret Secondary\, 12870-72nd Ave.\, Surrey\, BC\, V3W 2M9\, Canada
GEO:49.1334123;-122.8660209
X-APPLE-STRUCTURED-LOCATION;VALUE=URI;X-ADDRESS=Princess Margaret Secondary 12870-72nd Ave. Surrey BC V3W 2M9 Canada;X-APPLE-RADIUS=500;X-TITLE=12870-72nd Ave.:geo:-122.8660209,49.1334123
END:VEVENT
BEGIN:VEVENT
DTSTART;TZID=America/Los_Angeles:20150523T143000
DTEND;TZID=America/Los_Angeles:20150523T143000
DTSTAMP:20260421T135607
CREATED:20240730T225126Z
LAST-MODIFIED:20240730T225126Z
UID:10000736-1432391400-1432391400@srilankafoundation.org
SUMMARY:Sinhalese and Tamil New Year celebrations
DESCRIPTION:Hosted by SRI LANKAN FRIENDSHIP ASSOCIATION OF BRITISH COLUMBIA
URL:https://srilankafoundation.org/event/sinhalese-and-tamil-new-year-celebrations-4/
LOCATION:Princess Margaret Secondary\, 12870-72nd Ave.\, Surrey\, BC\, V3W 2M9\, Canada
GEO:49.1334123;-122.8660209
X-APPLE-STRUCTURED-LOCATION;VALUE=URI;X-ADDRESS=Princess Margaret Secondary 12870-72nd Ave. Surrey BC V3W 2M9 Canada;X-APPLE-RADIUS=500;X-TITLE=12870-72nd Ave.:geo:-122.8660209,49.1334123
END:VEVENT
BEGIN:VEVENT
DTSTART;TZID=America/Los_Angeles:20150523T143000
DTEND;TZID=America/Los_Angeles:20150523T190000
DTSTAMP:20260421T135607
CREATED:20240730T225115Z
LAST-MODIFIED:20240730T225115Z
UID:10000732-1432391400-1432407600@srilankafoundation.org
SUMMARY:Avurudu Festival
DESCRIPTION:Description: Please join Sri Lankan Friendship Association of British Columbia (SLFABC) to celebrate Sinhalese and Tamil New Year.  We have put together a fun fill evening for you. Please come early\, and register for the many games we have organized (too many to mention)\, for both children and adults. There will be Sri Lankan food for sale!\nTickets:Available at the door: Members – $5.00\, Member kids – $2.50 (kids aged 10-17)\nNon-members – $10.00  Non-member kids – $5.00  (kids aged 10-17)\n\n\n\nFor more information: SLFABC slfabc@gmail.com
URL:https://srilankafoundation.org/event/avurudu-festival/
LOCATION:Princess Margaret Secondary\, 12870-72nd Ave.\, Surrey\, BC\, V3W 2M9\, Canada
GEO:49.1334123;-122.8660209
X-APPLE-STRUCTURED-LOCATION;VALUE=URI;X-ADDRESS=Princess Margaret Secondary 12870-72nd Ave. Surrey BC V3W 2M9 Canada;X-APPLE-RADIUS=500;X-TITLE=12870-72nd Ave.:geo:-122.8660209,49.1334123
END:VEVENT
BEGIN:VEVENT
DTSTART;TZID=America/Los_Angeles:20150523T173000
DTEND;TZID=America/Los_Angeles:20150523T223000
DTSTAMP:20260421T135607
CREATED:20240730T225147Z
LAST-MODIFIED:20240730T225147Z
UID:10000738-1432402200-1432420200@srilankafoundation.org
SUMMARY:All You Can Eat Charity Dinner
DESCRIPTION:Description: All you can eat Charity Dinner for helping the needy in Sri Lanka \nTickets: Adults: $30 & Kids under 12: $15\n \n\nFor more information Call:\n\nJude Fernando: 0411 473 478\n\nTissa Liyanage: 0411 385 937\n\nRoy Abeygoonawardana: 0425 254 390
URL:https://srilankafoundation.org/event/all-you-can-eat-charity-dinner-2/
LOCATION:Rosalie Community Center\, 647 Pennant Hills Road\, Carlingford\, Australia
GEO:-33.763604;151.047702
X-APPLE-STRUCTURED-LOCATION;VALUE=URI;X-ADDRESS=Rosalie Community Center 647 Pennant Hills Road Carlingford Australia;X-APPLE-RADIUS=500;X-TITLE=647 Pennant Hills Road:geo:151.047702,-33.763604
END:VEVENT
END:VCALENDAR