BEGIN:VCALENDAR
VERSION:2.0
PRODID:-//Sri Lanka Foundation - ECPv6.11.2//NONSGML v1.0//EN
CALSCALE:GREGORIAN
METHOD:PUBLISH
X-ORIGINAL-URL:https://srilankafoundation.org
X-WR-CALDESC:Events for Sri Lanka Foundation
REFRESH-INTERVAL;VALUE=DURATION:PT1H
X-Robots-Tag:noindex
X-PUBLISHED-TTL:PT1H
BEGIN:VTIMEZONE
TZID:America/Los_Angeles
BEGIN:DAYLIGHT
TZOFFSETFROM:-0800
TZOFFSETTO:-0700
TZNAME:PDT
DTSTART:20150308T100000
END:DAYLIGHT
BEGIN:STANDARD
TZOFFSETFROM:-0700
TZOFFSETTO:-0800
TZNAME:PST
DTSTART:20151101T090000
END:STANDARD
END:VTIMEZONE
BEGIN:VEVENT
DTSTART;TZID=America/Los_Angeles:20150516T070000
DTEND;TZID=America/Los_Angeles:20150517T123000
DTSTAMP:20260421T135614
CREATED:20240730T225219Z
LAST-MODIFIED:20240730T225219Z
UID:10000746-1431759600-1431865800@srilankafoundation.org
SUMMARY:Invitation From Maithree Vihara - Sun Valley
DESCRIPTION: \n\nPinnacle unveiling of the new Stupa\n\nCeremonial opening of the new Vihara &\n\nOffering felicitations to new Chief  Prelate\n\nSaturday\, May 16th  from 4.00pm – 9.00pm\n\nSunday\, May 17th  from 7.00am – 12.30pm\n\nCost: Open to all FREE\n\nContact: Ven. Aparekke Punyasiri Thero @ 818 768 9382
URL:https://srilankafoundation.org/event/invitation-from-maithree-vihara-sun-valley/
LOCATION:Maithree Vihara\, 10819 Penrose St.\,\, Sun Valley\, CA\, 91352\, United States
GEO:34.2323408;-118.3656729
X-APPLE-STRUCTURED-LOCATION;VALUE=URI;X-ADDRESS=Maithree Vihara 10819 Penrose St. Sun Valley CA 91352 United States;X-APPLE-RADIUS=500;X-TITLE=10819 Penrose St.\,:geo:-118.3656729,34.2323408
END:VEVENT
BEGIN:VEVENT
DTSTART;TZID=America/Los_Angeles:20150517T090000
DTEND;TZID=America/Los_Angeles:20150517T170000
DTSTAMP:20260421T135614
CREATED:20240730T225159Z
LAST-MODIFIED:20240730T225159Z
UID:10000741-1431853200-1431882000@srilankafoundation.org
SUMMARY:Vesak - Sill and Bhavana Program
DESCRIPTION:9:00am Observance of Eight Precepts 9:30am Meditation by Ven. Bhikkhu Dhammananda \n10:30am Sutra Discussion by Ven. Aparekke Punyasiri Thero \n11:30am Buddha Puja and Lunch Dana \n1:00pm Dhamma Sermon by Ven. Napatawala Dhammananda Thero \n2:15pm Gilanpasa (Tea Break) \n2:30pm Dhamma Sermon by Ven. Professor Wilegoda Ariyadeva Thero \n3:45pm Dhamma Discussion \n4:30pm Buddha Vandana & Chanting of Pirith \n5:00pm End
URL:https://srilankafoundation.org/event/vesak-sill-and-bhavana-program/
LOCATION:Maithree Vihara\, 10819 Penrose St.\,\, Sun Valley\, CA\, 91352\, United States
GEO:34.2323408;-118.3656729
X-APPLE-STRUCTURED-LOCATION;VALUE=URI;X-ADDRESS=Maithree Vihara 10819 Penrose St. Sun Valley CA 91352 United States;X-APPLE-RADIUS=500;X-TITLE=10819 Penrose St.\,:geo:-118.3656729,34.2323408
END:VEVENT
BEGIN:VEVENT
DTSTART;TZID=America/Los_Angeles:20150517T090000
DTEND;TZID=America/Los_Angeles:20150517T170000
DTSTAMP:20260421T135614
CREATED:20240730T225203Z
LAST-MODIFIED:20240730T225203Z
UID:10000742-1431853200-1431882000@srilankafoundation.org
SUMMARY:Sill & Bhavana Program
DESCRIPTION:Observance of Precepts\nTickets: Free\, Open to all.\n\nContact: Sarathchandra Buddhist Center at (818) 760-8361
URL:https://srilankafoundation.org/event/sill-bhavana-program/
LOCATION:Sarathchandra Buddhist Center\, 10717 Oxnard St.\, North Hollywood\, CA\, 91606\, United States
GEO:34.179729;-118.364411
X-APPLE-STRUCTURED-LOCATION;VALUE=URI;X-ADDRESS=Sarathchandra Buddhist Center 10717 Oxnard St. North Hollywood CA 91606 United States;X-APPLE-RADIUS=500;X-TITLE=10717 Oxnard St.:geo:-118.364411,34.179729
END:VEVENT
END:VCALENDAR