BEGIN:VCALENDAR
VERSION:2.0
PRODID:-//Sri Lanka Foundation - ECPv6.11.2//NONSGML v1.0//EN
CALSCALE:GREGORIAN
METHOD:PUBLISH
X-ORIGINAL-URL:https://srilankafoundation.org
X-WR-CALDESC:Events for Sri Lanka Foundation
REFRESH-INTERVAL;VALUE=DURATION:PT1H
X-Robots-Tag:noindex
X-PUBLISHED-TTL:PT1H
BEGIN:VTIMEZONE
TZID:America/Los_Angeles
BEGIN:DAYLIGHT
TZOFFSETFROM:-0800
TZOFFSETTO:-0700
TZNAME:PDT
DTSTART:20150308T100000
END:DAYLIGHT
BEGIN:STANDARD
TZOFFSETFROM:-0700
TZOFFSETTO:-0800
TZNAME:PST
DTSTART:20151101T090000
END:STANDARD
END:VTIMEZONE
BEGIN:VEVENT
DTSTART;TZID=America/Los_Angeles:20150510T073000
DTEND;TZID=America/Los_Angeles:20150510T173000
DTSTAMP:20260422T125415
CREATED:20240730T225230Z
LAST-MODIFIED:20240730T225230Z
UID:10000750-1431243000-1431279000@srilankafoundation.org
SUMMARY:Wesak Poya Program
DESCRIPTION:Come commemorate the birth\, enlightenment (nirvāna)\, and death (Parinirvāna) of Gautama Buddha.\nTickets: Free\, Open to all.\n\nContact: Bhante Panamwela. Wajirabuddhi\, Chief Abbot of GBV @ (770) 987 8442
URL:https://srilankafoundation.org/event/wesak-poya-program/
LOCATION:Georgia Buddhist Vihara\, 3153 Miller Road\, Lithonia\, GA\, 30038\, United States
ATTACH;FMTTYPE=image/webp:https://srilankafoundation.org/wp-content/uploads/2024/07/Wesak_at_Mara_Vihara-45i2iE.tmp_.webp
GEO:33.697104;-84.18679
X-APPLE-STRUCTURED-LOCATION;VALUE=URI;X-ADDRESS=Georgia Buddhist Vihara 3153 Miller Road Lithonia GA 30038 United States;X-APPLE-RADIUS=500;X-TITLE=3153 Miller Road:geo:-84.18679,33.697104
END:VEVENT
BEGIN:VEVENT
DTSTART;TZID=America/Los_Angeles:20150510T180000
DTEND;TZID=America/Los_Angeles:20150510T220000
DTSTAMP:20260422T125415
CREATED:20240730T225226Z
LAST-MODIFIED:20240730T225226Z
UID:10000749-1431280800-1431295200@srilankafoundation.org
SUMMARY:Hanthanata Payana Sanda
DESCRIPTION:Amarasiri Pieris in Concert with Indrajith Mirihan’s music directorship and Sounds. Proudly presented by Japura Alumni Association of Australia..\n\nTickets: $30.00\n\nContact: Jayamini – 0404 435 115\, Neil 0438 651 238
URL:https://srilankafoundation.org/event/hanthanata-payana-sanda/
LOCATION:Besen Centre\, Burwood\, 87189 Station St.\, Burwood\, VIC\, 3125\, Australia
GEO:-37.8487203;145.1202923
X-APPLE-STRUCTURED-LOCATION;VALUE=URI;X-ADDRESS=Besen Centre Burwood 87189 Station St. Burwood VIC 3125 Australia;X-APPLE-RADIUS=500;X-TITLE=87189 Station St.:geo:145.1202923,-37.8487203
END:VEVENT
END:VCALENDAR