BEGIN:VCALENDAR
VERSION:2.0
PRODID:-//Sri Lanka Foundation - ECPv6.11.2//NONSGML v1.0//EN
CALSCALE:GREGORIAN
METHOD:PUBLISH
X-WR-CALNAME:Sri Lanka Foundation
X-ORIGINAL-URL:https://srilankafoundation.org
X-WR-CALDESC:Events for Sri Lanka Foundation
REFRESH-INTERVAL;VALUE=DURATION:PT1H
X-Robots-Tag:noindex
X-PUBLISHED-TTL:PT1H
BEGIN:VTIMEZONE
TZID:America/Los_Angeles
BEGIN:DAYLIGHT
TZOFFSETFROM:-0800
TZOFFSETTO:-0700
TZNAME:PDT
DTSTART:20150308T100000
END:DAYLIGHT
BEGIN:STANDARD
TZOFFSETFROM:-0700
TZOFFSETTO:-0800
TZNAME:PST
DTSTART:20151101T090000
END:STANDARD
END:VTIMEZONE
BEGIN:VEVENT
DTSTART;TZID=America/Los_Angeles:20150502T190000
DTEND;TZID=America/Los_Angeles:20150503T010000
DTSTAMP:20260424T062912
CREATED:20240730T225250Z
LAST-MODIFIED:20240730T225250Z
UID:10000755-1430593200-1430614800@srilankafoundation.org
SUMMARY:Gypsies - Dance With The Fabulous
DESCRIPTION:Tickets:\nEarly birds special must be purchased before Apr 15\, 2015.\n\nTable $100.00 (each ticket)\,  Early bird special $75.00\n\nRegular Ticker $75.00\, Early bird special $60.00\n\nKids Tickets (age 5-15) $25.00\,\n\nKids age under 5 free\n\nContact:Ajith Wijenayake (414) 731 4515\n\nEmmanuel (847) 329 7922
URL:https://srilankafoundation.org/event/gypsies-dance-with-the-fabulous/
LOCATION:Holiday Inn Chicago North Shore\, 5300 W. Touhy Ave.\, Skokie\, IL\, 60077\, United States
GEO:42.0124348;-87.760312
X-APPLE-STRUCTURED-LOCATION;VALUE=URI;X-ADDRESS=Holiday Inn Chicago North Shore 5300 W. Touhy Ave. Skokie IL 60077 United States;X-APPLE-RADIUS=500;X-TITLE=5300 W. Touhy Ave.:geo:-87.760312,42.0124348
END:VEVENT
BEGIN:VEVENT
DTSTART;TZID=America/Los_Angeles:20150503T070000
DTEND;TZID=America/Los_Angeles:20150509T203000
DTSTAMP:20260424T062912
CREATED:20240730T225243Z
LAST-MODIFIED:20240730T225243Z
UID:10000753-1430636400-1431203400@srilankafoundation.org
SUMMARY:Vesak Observances
DESCRIPTION:Sunday May 03\, 2015           From 7.00am – 3.00m        Observance of Eight Precepts\nSaturday May 09\, 2015        From 6.00pm – 8.30pm                  Atavisi Buddha Pooja\, Bhakti Geetha\n\nTickets: Open to all    FREE\n\nContact: Ven. Kolitha Thero @ 818 760 8361
URL:https://srilankafoundation.org/event/vesak-observances/
LOCATION:Sarathchandra Buddhist Center\, 10717 Oxnard St.\, North Hollywood\, CA\, 91606\, United States
GEO:34.179729;-118.364411
X-APPLE-STRUCTURED-LOCATION;VALUE=URI;X-ADDRESS=Sarathchandra Buddhist Center 10717 Oxnard St. North Hollywood CA 91606 United States;X-APPLE-RADIUS=500;X-TITLE=10717 Oxnard St.:geo:-118.364411,34.179729
END:VEVENT
BEGIN:VEVENT
DTSTART;TZID=America/Los_Angeles:20150503T130000
DTEND;TZID=America/Los_Angeles:20150503T160000
DTSTAMP:20260424T062912
CREATED:20240730T225239Z
LAST-MODIFIED:20240730T225239Z
UID:10000752-1430658000-1430668800@srilankafoundation.org
SUMMARY:Lecture on South and Southeast Asian Art
DESCRIPTION:Osmund Bopearachchi\, Director of Research at the French National Center for Scientific Research (C.N.R.S)\, discusses “Sri Lanka: A Land of Multicultural Exchanges.” Dr. Bopearachchi presents the spectacular but little-known art from the island nation of Sri Lanka. He places the Buddhist and Hindu sculpture\, paintings\, and architecture in their relationship to the art of South and Southeast Asia\, identifying Sri Lanka as a hub of trade and culture across Asia.\nIn addition to being the Director of Research at the French National Center for Scientific Research (C.N.R.S)\, Osmund Bopearachchi teaches Central Asian and South-Asian archaeology and art history at the Paris IV-Sorbonne University. Currently he is a visiting scholar in Central Asian Art and Archaeology at the University of California\, Berkeley. He has published nine books\, edited six books and published 130 articles in international journals.\n\nMore information about this lecture and LACMA available at:\nhttp://www.lacma.org/event/south-and-southeast-asian-art-lecture-0\n\nTickets: Free and open to the public\n\nContact: Diana Wyenn (323) 857 4732
URL:https://srilankafoundation.org/event/lecture-on-south-and-southeast-asian-art/
LOCATION:Los Angeles County Museum of Art\, 5905 Wilshire Bl.\, Los Angeles\, CA\, 90036\, United States
GEO:34.0636859;-118.3591336
X-APPLE-STRUCTURED-LOCATION;VALUE=URI;X-ADDRESS=Los Angeles County Museum of Art 5905 Wilshire Bl. Los Angeles CA 90036 United States;X-APPLE-RADIUS=500;X-TITLE=5905 Wilshire Bl.:geo:-118.3591336,34.0636859
END:VEVENT
END:VCALENDAR